BEGIN:VCALENDAR
VERSION:2.0
PRODID:-//New South River Baptist Association - ECPv6.15.11//NONSGML v1.0//EN
CALSCALE:GREGORIAN
METHOD:PUBLISH
X-ORIGINAL-URL:http://nsrba.org
X-WR-CALDESC:Events for New South River Baptist Association
REFRESH-INTERVAL;VALUE=DURATION:PT1H
X-Robots-Tag:noindex
X-PUBLISHED-TTL:PT1H
BEGIN:VTIMEZONE
TZID:UTC
BEGIN:STANDARD
TZOFFSETFROM:+0000
TZOFFSETTO:+0000
TZNAME:UTC
DTSTART:20250101T000000
END:STANDARD
END:VTIMEZONE
BEGIN:VEVENT
DTSTART;TZID=UTC:20260214T080000
DTEND;TZID=UTC:20260214T170000
DTSTAMP:20260423T064733
CREATED:20251117T163534Z
LAST-MODIFIED:20251118T160210Z
UID:2629-1771056000-1771088400@nsrba.org
SUMMARY:Winter of Love for Ladies
DESCRIPTION:Ministry Goal \nTo serve women who frequently neglect self-care\, enabling them to love and care for their families effectively. \n  \nA Tote of Extravagances \nIncludes luxury items such as bath towels\, washcloth\, body wash\, loofah sponge\, lotion\, lip balm\, chocolate\, and other items \n  \nItems Needed for Totes (Deadline is February 2nd\, 2026) \n\n200 Luxury Bath Towels\n200 Luxury Washcloths\n200 Bottles of Body Wash\n200 Body loofah sponges\n200 Tubes of lip balm
URL:http://nsrba.org/event/winter-of-love-for-ladies/
ATTACH;FMTTYPE=image/jpeg:http://nsrba.org/wp-content/uploads/2025/11/istockphoto-1296158976-612x612-1.jpg
END:VEVENT
BEGIN:VEVENT
DTSTART;TZID=UTC:20260330T080000
DTEND;TZID=UTC:20260330T160000
DTSTAMP:20260423T064733
CREATED:20180116T170535Z
LAST-MODIFIED:20251118T160655Z
UID:1874-1774857600-1774886400@nsrba.org
SUMMARY:Easter " Baskets of Blessings"
DESCRIPTION:A ministry for all age-groups or individuals in your church. We ask for each basket to be gender-neutral\, include grass\, and wrapped in cellophane. \n  \nWe ask for each basket to be gender-neutral\, include Easter grass\, and wrapped in cellophane. A few “filler” suggestions are: \n  \n\nWrapped candy/gum\nStuffed animal\nChristian materials\nColoring books/crayons\nSmall toys\nPlastic filled eggs\nLots of LOVE!\n\n  \nThe WMU Association team will attach a gospel tract and pray over the basket before being donated to the NC Baptist Children’s Homes. \nFor more information or questions\, please contact Karen Melvin at 910-323-1111\, ext. 7014 or email kmm4of4@gmail.com. \n  \nDEADLINE to receive baskets is March 30th\, 2026 \nBaskets can be dropped off at the “NSRBA Resource Center” \n2341 Downing Road \nFayetteville\, NC 28312 \n(910) 485-8791 \n 
URL:http://nsrba.org/event/easter-basket-ministry/
LOCATION:NSRBA Resource Center\, 2341 Downing Rd\, Fayetteville\, NC\, 28312\, United States
ATTACH;FMTTYPE=image/jpeg:http://nsrba.org/wp-content/uploads/2018/01/easter-basket.jpg
END:VEVENT
END:VCALENDAR