BEGIN:VCALENDAR
VERSION:2.0
PRODID:-//New South River Baptist Association - ECPv6.15.11//NONSGML v1.0//EN
CALSCALE:GREGORIAN
METHOD:PUBLISH
X-WR-CALNAME:New South River Baptist Association
X-ORIGINAL-URL:http://nsrba.org
X-WR-CALDESC:Events for New South River Baptist Association
REFRESH-INTERVAL;VALUE=DURATION:PT1H
X-Robots-Tag:noindex
X-PUBLISHED-TTL:PT1H
BEGIN:VTIMEZONE
TZID:UTC
BEGIN:STANDARD
TZOFFSETFROM:+0000
TZOFFSETTO:+0000
TZNAME:UTC
DTSTART:20240101T000000
END:STANDARD
END:VTIMEZONE
BEGIN:VEVENT
DTSTART;TZID=UTC:20260110T100000
DTEND;TZID=UTC:20260110T100000
DTSTAMP:20260423T085633
CREATED:20171227T140250Z
LAST-MODIFIED:20251118T160948Z
UID:1763-1768039200-1768039200@nsrba.org
SUMMARY:NSRBA Sponsors S.A.T.T.
DESCRIPTION:What is S.A.T.T? \nThe churches of the NSRBA come together to supply public school  teachers in Cumberland\, Hoke\, and Sampson counties with supplies for their classrooms. Teachers come to the associational resource center and fill a box with the items they need\, and pastors from our association pray with each teacher. \n  \nThis ministry occurs twice a year in August when school begins and January\, the halfway point of the school year when classroom supplies run low. \n  \nClick here for a supplies list
URL:http://nsrba.org/event/school-supplies-ministry/
LOCATION:NSRBA Resource Center\, 2341 Downing Rd\, Fayetteville\, NC\, 28312\, United States
ATTACH;FMTTYPE=image/jpeg:http://nsrba.org/wp-content/uploads/2017/12/Back-Pack.jpg
END:VEVENT
BEGIN:VEVENT
DTSTART;TZID=UTC:20251213T080000
DTEND;TZID=UTC:20251213T160000
DTSTAMP:20260423T085633
CREATED:20191030T163118Z
LAST-MODIFIED:20251118T161838Z
UID:2215-1765612800-1765641600@nsrba.org
SUMMARY:Christmas Toy Store
DESCRIPTION:Deadline for Toys and Sack Items: November 21 \nDeadline for Christmas Gift Ministry: December 13 \n  \nPastors and other volunteers are needed for December 13th! Please call the resource center at (910) 485-8791! \n  \nGeneral Information \n\nThis ministry aims to support parents of children by providing Christmas items\nParents must submit an application – Click Here\nUpon arrival\, they will meet with a pastor from an NSRBA Church\nParents are allowed to choose ** two (2) large toyes ** for each child\nAdditionally\, they will receive ** one (1) Santa Sack ** for each child\n\n  \nAge Breakdown (boy or girl) \n\n2-4 Years old\n5-7 years old\n8-10 years old\n\n  \nItems needed for Santa Sacks \n\nClothing (hats\, scarfs\, gloves\, socks\, etc.)\nCraft (coloring pencils/markers/crayons\, playdough\, etc.)\nCandy (bags of individually wrapped pieces of candy)
URL:http://nsrba.org/event/christmas-toy-store/
LOCATION:NSRBA Resource Center\, 2341 Downing Rd\, Fayetteville\, NC\, 28312\, United States
ATTACH;FMTTYPE=image/jpeg:http://nsrba.org/wp-content/uploads/2017/12/christmas-basket.jpg
END:VEVENT
BEGIN:VEVENT
DTSTART;TZID=UTC:20251118T080000
DTEND;TZID=UTC:20251206T170000
DTSTAMP:20260423T085633
CREATED:20201023T130534Z
LAST-MODIFIED:20251118T155204Z
UID:2317-1763452800-1765040400@nsrba.org
SUMMARY:Food Basket Ministry
DESCRIPTION:Deadline for Baskets is December 5\, 2025 \n  \nDrop Off locations: \nCumberland Beatitude House \n102 Main Street \nSpring Lake\, NC 28390 \n(910) 496-0925 \n  \nSampson Beatitude House \n212 W Roseboro House \nRoseboro\, NC 28382 \n(910) 525-4351 \n  \nFor a list of basket items Click Here
URL:http://nsrba.org/event/food-basket-ministry/
CATEGORIES:Charity,Events,Featured,Ministry
ATTACH;FMTTYPE=image/jpeg:http://nsrba.org/wp-content/uploads/2020/10/71LutZ6mPbL._AC_SL1133_.jpg
END:VEVENT
END:VCALENDAR